BEGIN:VCALENDAR
VERSION:2.0
PRODID:-//Compass Training Center - ECPv6.15.11//NONSGML v1.0//EN
CALSCALE:GREGORIAN
METHOD:PUBLISH
X-WR-CALNAME:Compass Training Center
X-ORIGINAL-URL:https://compasstrainingaz.org
X-WR-CALDESC:Events for Compass Training Center
REFRESH-INTERVAL;VALUE=DURATION:PT1H
X-Robots-Tag:noindex
X-PUBLISHED-TTL:PT1H
BEGIN:VTIMEZONE
TZID:America/Phoenix
BEGIN:STANDARD
TZOFFSETFROM:-0700
TZOFFSETTO:-0700
TZNAME:MST
DTSTART:20250101T000000
END:STANDARD
END:VTIMEZONE
BEGIN:VEVENT
DTSTART;TZID=America/Phoenix:20260423T090000
DTEND;TZID=America/Phoenix:20260423T163000
DTSTAMP:20260422T033519
CREATED:20260201T234924Z
LAST-MODIFIED:20260404T203913Z
UID:9685-1776934800-1776961800@compasstrainingaz.org
SUMMARY:Real World AR Platform 6-8 hours
DESCRIPTION:This course is designed to strengthen your firearm‑handling skills and elevate your personal safety in real‑world situations. The curriculum prepares you for more advanced training and equips you to defend yourself and others during a deadly‑force encounter. \nWe will build on your core fundamentals\, including accuracy\, speed to target\, and shooting positions (standing\, kneeling\, and prone). You will also work with cover and concealment\, shoot while moving\, and practice in‑depth malfunction clearing. \nStudents must already be proficient with the basic operation of their AR‑platform firearm and pistol\, including loading\, unloading\, and essential shooting skills. You should also be comfortable drawing from a holster—both open and concealed—and have the firearm safety rules fully committed to memory. \nWe strongly encourage prospective students to contact us to confirm they have the necessary foundational skills for this class. Proof of basic firearms safety and handling certification may be requested. \nRequired gear: \n\nAR platform with sling\nMagazine pouches and at least 3 magazines\nEveryday Carry handgun with a quality holster\nMagazine pouch and at least 2 extra magazines or speed loaders\nPants with belt loops and belt\nEar and eye protection\nProper ammunition for your carry pistol (contact us if you require assistance in finding)\nSunscreen and hat OR wet weather gear\nWater\, snacks and a lunch\n\n***Minimum round count 300-500 for each platform \nSuggested equipment for comfort: \n\nKnee and elbow pads\nChair\nPersonal First Aid Kit (optional)\n\n\nCOPY LINK TO BOOK or CLICK EVENT WEBSITE URL BELOW: \n 
URL:https://compasstrainingaz.org/event/real-world-ar-4-19-26/
LOCATION:Compass Training Center\, 3926 Shooting Range Road\, Chino Valley\, AZ\, 86323\, United States
ATTACH;FMTTYPE=image/jpeg:https://compasstrainingaz.org/wp-content/uploads/2025/06/IMG_4215-scaled.jpeg
END:VEVENT
BEGIN:VEVENT
DTSTART;TZID=America/Phoenix:20260424T074500
DTEND;TZID=America/Phoenix:20260424T084500
DTSTAMP:20260422T033519
CREATED:20260404T195203Z
LAST-MODIFIED:20260404T195236Z
UID:9794-1777016700-1777020300@compasstrainingaz.org
SUMMARY:Hands On Self Defense Training 7:45
DESCRIPTION:Is your body and mind prepared to face an attack on you or someone you love? Physical and mental fitness must work together for whatever challenges life brings. Self‑protection isn’t only about strength — it’s a mindset. The way you interpret a situation can shape the outcome in your favor. \nOn this journey\, we’ll bring both physical and mental preparedness to the forefront. Everyone has to start somewhere\, so we’ll begin with ourselves. The old saying still holds true: if you don’t take care of yourself\, how can you take care of anyone else? \n$10 per class \nRequired equipment: \nTennis shoes\nComfortable clothing that allows you to move freely\nWater or something to hydrate with.\nSnack if needed \nYour Instructor: Regina (Gina) Pecoraro studied under Sr Grand Master Bill Grossman (Shaolin Kenpo). During such time Gina competed in and took top place in her divisions. Gina has trained in Arnis\, Kamas\, Bow Staff\, and Small Circle Jiu-Jitsu under Shaolin Kenpo as well as less than lethal techniques\, beginner to advanced firearms instruction. \n 
URL:https://compasstrainingaz.org/event/hosd-fr-745-4-24-26/
LOCATION:Compass Training Center\, 3926 Shooting Range Road\, Chino Valley\, AZ\, 86323\, United States
ATTACH;FMTTYPE=image/png:https://compasstrainingaz.org/wp-content/uploads/2024/10/Screenshot-2024-10-24-at-14.47.41.png
END:VEVENT
BEGIN:VEVENT
DTSTART;TZID=America/Phoenix:20260425T090000
DTEND;TZID=America/Phoenix:20260425T120000
DTSTAMP:20260422T033519
CREATED:20260103T165729Z
LAST-MODIFIED:20260131T190544Z
UID:9430-1777107600-1777118400@compasstrainingaz.org
SUMMARY:Steel Match
DESCRIPTION:Monthly Steel Challenge\n  \n****Match starts at 9am – Please make sure you have completed all waivers and paid at the Range Office*** \n“PISTOLS\, PCC AND\, PISTOL CALIBER\, LEVER ACTION” \nBE READY FOR SOME MOVE AND SHOOT. \nSTEEL CHALLENGE AT COMPASS TRAINING CENTER \nFIRST-TIME\, NOVICE AND SEASONED COMPETITORS WELCOMED \nJOIN US FOR A THRILLING STEEL CHALLENGE MATCH\, SHOOTERS OF ALL SKILL LEVELS CAN ENJOY A FRIENDLY COMPETITION. \nFAMILY FRIENDLY EVENT \nAMMUNITION: PISTOL ONLY CALIBERS\, NO MAGNUM LOADS \nSTAGES MIX OF SPEED\, ACCURACY SHOOTING. \nSHOOTERS CAN USE ONE OR MULTIPLE FIREARMS PER RUN.
URL:https://compasstrainingaz.org/event/steel-match-4-25-26/
LOCATION:Compass Training Center\, 3926 Shooting Range Road\, Chino Valley\, AZ\, 86323\, United States
ATTACH;FMTTYPE=image/png:https://compasstrainingaz.org/wp-content/uploads/2020/05/steel.jpeg.png
END:VEVENT
BEGIN:VEVENT
DTSTART;TZID=America/Phoenix:20260425T120000
DTEND;TZID=America/Phoenix:20260425T163000
DTSTAMP:20260422T033519
CREATED:20260201T234124Z
LAST-MODIFIED:20260201T234222Z
UID:9679-1777118400-1777134600@compasstrainingaz.org
SUMMARY:SWAP (Don't Shop) Meet at Compass
DESCRIPTION:SWAP MEET is here. Bring your extra holsters\, belts\, magazines; whatever Pew Pew or other items you items you want to sell. \nEvent is free to all attendees \nAs you know we are a 501c3 and are asking for a $10 donation for your space. Please call to book your space before we fill up.
URL:https://compasstrainingaz.org/event/swap-4-25-26/
LOCATION:Compass Training Center\, 3926 Shooting Range Road\, Chino Valley\, AZ\, 86323\, United States
ATTACH;FMTTYPE=image/jpeg:https://compasstrainingaz.org/wp-content/uploads/2021/04/images-1.jpg
END:VEVENT
BEGIN:VEVENT
DTSTART;TZID=America/Phoenix:20260426T074500
DTEND;TZID=America/Phoenix:20260426T084500
DTSTAMP:20260422T033519
CREATED:20260404T195555Z
LAST-MODIFIED:20260404T195629Z
UID:9803-1777189500-1777193100@compasstrainingaz.org
SUMMARY:Hands On Self Defense Training 7:45
DESCRIPTION:Is your body and mind prepared to face an attack on you or someone you love? Physical and mental fitness must work together for whatever challenges life brings. Self‑protection isn’t only about strength — it’s a mindset. The way you interpret a situation can shape the outcome in your favor. \nOn this journey\, we’ll bring both physical and mental preparedness to the forefront. Everyone has to start somewhere\, so we’ll begin with ourselves. The old saying still holds true: if you don’t take care of yourself\, how can you take care of anyone else? \n$10 per class \nRequired equipment: \nTennis shoes\nComfortable clothing that allows you to move freely\nWater or something to hydrate with.\nSnack if needed \nYour Instructor: Regina (Gina) Pecoraro studied under Sr Grand Master Bill Grossman (Shaolin Kenpo). During such time Gina competed in and took top place in her divisions. Gina has trained in Arnis\, Kamas\, Bow Staff\, and Small Circle Jiu-Jitsu under Shaolin Kenpo as well as less than lethal techniques\, beginner to advanced firearms instruction. \n 
URL:https://compasstrainingaz.org/event/hosd-su-745-04-26-26/
LOCATION:Compass Training Center\, 3926 Shooting Range Road\, Chino Valley\, AZ\, 86323\, United States
ATTACH;FMTTYPE=image/png:https://compasstrainingaz.org/wp-content/uploads/2024/10/Screenshot-2024-10-24-at-14.47.41.png
END:VEVENT
BEGIN:VEVENT
DTSTART;TZID=America/Phoenix:20260426T120000
DTEND;TZID=America/Phoenix:20260426T140000
DTSTAMP:20260422T033519
CREATED:20260103T184908Z
LAST-MODIFIED:20260103T185006Z
UID:9491-1777204800-1777212000@compasstrainingaz.org
SUMMARY:Find The Pew That Fits You
DESCRIPTION:Check in time is between 12p and 2p\nFind Your Gun is were you will have the opportunity to try out different calibers\, sizes and styles of handguns and rifles/shotguns  all for the cost of an instructor only. You will be provided with instruction on use of the firearm\, proper loading\, unloading\, grip and stance as well as 50 rounds to try them out.\nCost – $75 that includes 50 rounds & Instructor\n\nWe also have package deals for you available.\nPistol: out of box course which we will go through the new firearm\, break it down and clean it. After that you will sign up for our 3 hour Know Your Gun which will get you confident with the first shots with your new firearm and what gear and gadgets you should purchase before your basic class.\nFor the AR we will include your Know Your Gun which includes of the box course\, help you sight in the Iron or red dot sight. stance grip and gear and gadgets information for your Fundamentals course.\nPackage deals are $175\nIf you purchase a bolt gun or AK your package will include the 2hr sight in only for $30. (Arrangements to be made for the one on one time with staff)\n\nClick below link to sign up for class
URL:https://compasstrainingaz.org/event/fyg-4-26-26/
LOCATION:Compass Training Center\, 3926 Shooting Range Road\, Chino Valley\, AZ\, 86323\, United States
ATTACH;FMTTYPE=image/png:https://compasstrainingaz.org/wp-content/uploads/2023/02/Screenshot-2023-05-18-at-11.58.38.png
END:VEVENT
BEGIN:VEVENT
DTSTART;TZID=America/Phoenix:20260427T090000
DTEND;TZID=America/Phoenix:20260427T163000
DTSTAMP:20260422T033519
CREATED:20260103T170311Z
LAST-MODIFIED:20260325T231401Z
UID:9439-1777280400-1777307400@compasstrainingaz.org
SUMMARY:Pistol Fundamentals
DESCRIPTION:You will “build” on core fundamental skills with the use of a handgun\, become comfortable with grip\, stance\, proper sight alignment\, and the ability to safely draw from your holster.  You will take home effective drills and techniques that you can use in your own training regimen. Whether you are a new handgun owner or recreational shooter looking to learn new defensive skills with a handgun\, this is a great course to start with. \nROUND COUNT – 250 rounds\, required equipment for this course will be at least 2 magazines and a proper holster for your gun. **never been fired firearms must be broken down and have packing grease removed before you shoot. If you are unsure how to accomplish this\, please read through your owner’s manual** (we offer out of the box\, first shots classes as well for additional cost.\nSubscription Holders $200.00 Non-subscribers $225 Must sign up 48 hours in advance\nEquipment Required: Please feel free to call or visit us if you need assistance or have questions about equipment needs. \nDue to safety issues NO Sig P320 will be allowed in class \nREQUIRED EQUIPMENT: \nHandgun\nSturdy belt\nHolster that fits your firearm (absolutely NO sticky\, belly bands\, off body or universal holsters allowed)\nAt least two magazines\nEye & Ear Protection\nAmmunition – 300 rounds\nPersonal First Aid Kit (optional)\nClasses will be held rain or shine so be prepared with proper personal equipment\nlunch and or snacks and plenty of fluids\nbring a chair if you would like \nCOPY LINK TO SEARCH BAR OR CLICK EVENT WEBSITE URL BELOW  TO BOOK:
URL:https://compasstrainingaz.org/event/pistol-fundamentals-4-28-25/
LOCATION:Compass Training Center\, 3926 Shooting Range Road\, Chino Valley\, AZ\, 86323\, United States
ATTACH;FMTTYPE=image/jpeg:https://compasstrainingaz.org/wp-content/uploads/2022/11/7C8CA15E-DAFE-4290-9C0B-5DD918B789C9_1_105_c.jpeg
END:VEVENT
END:VCALENDAR